BEGIN:VCALENDAR
VERSION:2.0
PRODID:-//Library Market//iCal Export//EN
BEGIN:VEVENT
SUMMARY:Greenlawn Civic Association Traffic &amp; Safety Committee Monthly
  Meeting
UID:99783
DTSTAMP:20260423T061500Z
DTSTART:20260506T160000Z
DTEND:20260506T170000Z
LOCATION:Harborfields Public Library, 31 Broadway, Greenlawn, NY 11740, Un
 ited States
ROOM: Small Meeting Room
DESCRIPTION:Greenlawn Civic Association Traffic &amp; Safety Committee Mon
 thly Meeting
URL:https://www.harborfieldslibrary.org/event/greenlawn-civic-association-
 traffic-safety-committee-monthly-meeting-99783
END:VEVENT
END:VCALENDAR
