BEGIN:VCALENDAR
VERSION:2.0
PRODID:-//Library Market//iCal Export//EN
BEGIN:VEVENT
SUMMARY:Huntington Bicycle Club General Monthly Meeting
UID:99782
DTSTAMP:20260423T095300Z
DTSTART:20260603T230000Z
DTEND:20260604T003000Z
LOCATION:Harborfields Public Library, 31 Broadway, Greenlawn, NY 11740, Un
 ited States
ROOM: Community Meeting Room
DESCRIPTION:Monthly general meeting
URL:https://www.harborfieldslibrary.org/event/huntington-bicycle-club-gene
 ral-monthly-meeting-99782
END:VEVENT
END:VCALENDAR
