BEGIN:VCALENDAR
VERSION:2.0
PRODID:-//Library Market//iCal Export//EN
BEGIN:VEVENT
SUMMARY:Geography Activites for Students
UID:99740
DTSTAMP:20260421T165500Z
DTSTART:20260428T203000Z
DTEND:20260428T220000Z
LOCATION:Harborfields Public Library, 31 Broadway, Greenlawn, NY 11740, Un
 ited States
ROOM: Small Meeting Room
DESCRIPTION:Edication on geography
URL:https://www.harborfieldslibrary.org/event/geography-activites-students
 -99740
END:VEVENT
END:VCALENDAR
