BEGIN:VCALENDAR
VERSION:2.0
PRODID:-//Library Market//iCal Export//EN
BEGIN:VEVENT
SUMMARY:Winter Stories
UID:89846
DTSTAMP:20260422T165800Z
DTSTART:20251217T200000Z
DTEND:20251217T203000Z
LOCATION:Harborfields Public Library, 31 Broadway, Greenlawn, NY 11740, Un
 ited States
ROOM: Youth Services A &amp; B Combined
DESCRIPTION: Join a Children&#039;s Librarian for a half-hour program of 
 stories, finger plays and more.
URL:https://www.harborfieldslibrary.org/event/winter-stories-89846
END:VEVENT
END:VCALENDAR
