BEGIN:VCALENDAR
VERSION:2.0
PRODID:-//Library Market//iCal Export//EN
BEGIN:VEVENT
SUMMARY:Paint your own Holiday Nutcracker
UID:89501
DTSTAMP:20260422T182900Z
DTSTART:20251211T233000Z
DTEND:20251212T013000Z
LOCATION:Harborfields Public Library, 31 Broadway, Greenlawn, NY 11740, Un
 ited States
ROOM: Community Meeting Room
DESCRIPTION:Paint and decorate your own wooden, 12 inch Holiday Nutcracker
  with Olivia &amp; Maddy. All supplies will be provided. Online only regis
 tration begins Monday, December 1 at 10:00 AM  for Harborfields Library c
 ardholders. Fee: $8.  
URL:https://www.harborfieldslibrary.org/event/painted-holiday-cookie-89501
END:VEVENT
END:VCALENDAR
