BEGIN:VCALENDAR
VERSION:2.0
PRODID:-//Library Market//iCal Export//EN
BEGIN:VEVENT
SUMMARY:Pack 2255 Lion Den Meeting
UID:88511
DTSTAMP:20260421T172700Z
DTSTART:20251021T213000Z
DTEND:20251021T223000Z
LOCATION:Harborfields Public Library, 31 Broadway, Greenlawn, NY 11740, Un
 ited States
ROOM: Community Meeting Room
DESCRIPTION:Cub Scout Den Meeting
URL:https://www.harborfieldslibrary.org/event/pack-2255-lion-den-meeting-8
 8511
END:VEVENT
END:VCALENDAR
