BEGIN:VCALENDAR
VERSION:2.0
PRODID:-//Library Market//iCal Export//EN
BEGIN:VEVENT
SUMMARY:Pure Joy with Paige Patterson: Musical Journey for the Soul
UID:73134
DTSTAMP:20260421T235800Z
DTSTART:20251109T193000Z
DTEND:20251109T210000Z
LOCATION:Harborfields Public Library, 31 Broadway, Greenlawn, NY 11740, Un
 ited States
ROOM: Small &amp; Community Rooms
DESCRIPTION:With an eclectic mix of songs spanning Sinatra to Santana, Bro
 adway to Bon Jovi, and the Harlem Renaissance, Paige Patterson takes audie
 nces on a captivating musical journey. Relive cherished memories and redis
 cover the magic of timeless music in a show that’s sure to uplift, inspi
 re, and bring pure joy. All are welcome. Registration is underway.  
URL:https://www.harborfieldslibrary.org/event/pure-joy-paige-patterson-tha
 nkful-73134
END:VEVENT
END:VCALENDAR
