BEGIN:VCALENDAR
VERSION:2.0
PRODID:-//Library Market//iCal Export//EN
BEGIN:VEVENT
SUMMARY:Greenlawn Civic Association General Meeting
UID:64808
DTSTAMP:20260422T192200Z
DTSTART:20240923T230000Z
DTEND:20240924T000000Z
LOCATION:Harborfields Public Library, 31 Broadway, Greenlawn, NY 11740, Un
 ited States
ROOM: Community Meeting Room
DESCRIPTION:September General Meeting of the Greenlawn Civic Association
URL:https://www.harborfieldslibrary.org/event/greenlawn-civic-association-
 general-meeting-64808
END:VEVENT
END:VCALENDAR
