BEGIN:VCALENDAR
VERSION:2.0
PRODID:-//Library Market//iCal Export//EN
BEGIN:VEVENT
SUMMARY:Tai Chi Fall 2024
UID:64188
DTSTAMP:20260422T181200Z
DTSTART:20241014T160000Z
DTEND:20241014T170000Z
LOCATION:Harborfields Public Library, 31 Broadway, Greenlawn, NY 11740, Un
 ited States
ROOM: Community Meeting Room
DESCRIPTION:Join an RSVP instructor for an 8-week, 16 session series to le
 arn this ancient Chinese form of movement that can improve strength, flexi
 bility, and balance. Limited to Harborfields Library cardholders. Please n
 ote there will not be class 11/11 and 11/14. 
URL:https://www.harborfieldslibrary.org/event/tai-chi-fall-2024-64188
END:VEVENT
END:VCALENDAR
