BEGIN:VCALENDAR
VERSION:2.0
PRODID:-//Library Market//iCal Export//EN
BEGIN:VEVENT
SUMMARY:Tail Waggin&#039; Tales: Session 2 of 4
UID:60090
DTSTAMP:20260422T095800Z
DTSTART:20240608T151500Z
DTEND:20240608T153000Z
LOCATION:Harborfields Public Library, 31 Broadway, Greenlawn, NY 11740, Un
 ited States
ROOM: Youth Services A &amp; B Combined
DESCRIPTION:Read with Cutch a certified therapy dog from Therapy Dogs Inte
 rnational, Inc. Register for a fifteen minute session for one-on-one shari
 ng of a story. Siblings are asked to share a session. Children must be acc
 ompanied by an adult.  Please register for each date independently.
URL:https://www.harborfieldslibrary.org/event/tail-waggin-tales-session-2-
 4-60090
END:VEVENT
END:VCALENDAR
