BEGIN:VCALENDAR
VERSION:2.0
PRODID:-//Library Market//iCal Export//EN
BEGIN:VEVENT
SUMMARY:Rescheduled Judy&#039;s Cucina: Ciambotta - Summer Vegetable Stew
UID:56991
DTSTAMP:20260422T192200Z
DTSTART:20240923T220000Z
DTEND:20240924T000000Z
LOCATION:Harborfields Public Library, 31 Broadway, Greenlawn, NY 11740, Un
 ited States
ROOM: Kitchen Meeting Room
DESCRIPTION:Join Chef Judy to make ciambotta, a nourishing stew of summer
  garden veggies. Please bring a cutting board and knife to the program. 
URL:https://www.harborfieldslibrary.org/event/judys-cucina-2024-56991
END:VEVENT
END:VCALENDAR
