BEGIN:VCALENDAR
VERSION:2.0
PRODID:-//Library Market//iCal Export//EN
BEGIN:VEVENT
SUMMARY:Lemonade Day
UID:56879
DTSTAMP:20260422T160100Z
DTSTART:20240516T230000Z
DTEND:20240516T234500Z
LOCATION:Harborfields Public Library, 31 Broadway, Greenlawn, NY 11740, Un
 ited States
ROOM: Youth Services A &amp; B Combined
DESCRIPTION:Enjoy sweet lemonade stories and taste test some fun flavors o
 f lemonade!
URL:https://www.harborfieldslibrary.org/event/lemonade-day-56879
END:VEVENT
END:VCALENDAR
