BEGIN:VCALENDAR
VERSION:2.0
PRODID:-//Library Market//iCal Export//EN
BEGIN:VEVENT
SUMMARY:Teens Connect: Chess Mates
UID:49248
DTSTAMP:20260423T024700Z
DTSTART:20231216T193000Z
DTEND:20231216T203000Z
LOCATION:Harborfields Public Library, 31 Broadway, Greenlawn, NY 11740, Un
 ited States
ROOM: At the Library
DESCRIPTION:Partner up with a 1st to 5th grader and teach them the game o
 f chess.  Earn 1 hour of community service.   Please register. 
URL:https://www.harborfieldslibrary.org/event/teens-connect-chess-mates-49
 248
END:VEVENT
END:VCALENDAR
