BEGIN:VCALENDAR
VERSION:2.0
PRODID:-//Library Market//iCal Export//EN
BEGIN:VEVENT
SUMMARY:A Winter&#039;s Eve Paint Night
UID:43390
DTSTAMP:20260423T024700Z
DTSTART:20231214T233000Z
DTEND:20231215T010000Z
LOCATION:Harborfields Public Library, 31 Broadway, Greenlawn, NY 11740, Un
 ited States
ROOM: Kitchen Meeting Room
DESCRIPTION:Let your creativity shine at our winter&#039;s eve paint night
 ! Join us for this fun instructional program where an instructor from Proj
 ect Excel will guide you in crating a stunning winter themed painting. You
  will be amazed by what you are able to create! Please register.
URL:https://www.harborfieldslibrary.org/event/winters-eve-paint-night-4339
 0
END:VEVENT
END:VCALENDAR
