BEGIN:VCALENDAR
VERSION:2.0
PRODID:-//Library Market//iCal Export//EN
BEGIN:VEVENT
SUMMARY:Troop 1041
UID:35809
DTSTAMP:20260422T005800Z
DTSTART:20230307T213000Z
DTEND:20230307T223000Z
LOCATION:Harborfields Public Library, 31 Broadway, Greenlawn, NY 11740, Un
 ited States
ROOM: Small Meeting Room
DESCRIPTION:Girl Scout meeting
URL:https://www.harborfieldslibrary.org/event/troop-1041-0
END:VEVENT
END:VCALENDAR
