BEGIN:VCALENDAR
VERSION:2.0
PRODID:-//Library Market//iCal Export//EN
BEGIN:VEVENT
SUMMARY:Virtual - Chair Yoga for Arthritis Summer 23
UID:35787
DTSTAMP:20260420T192700Z
DTSTART:20230629T143000Z
DTEND:20230629T153000Z
LOCATION:
DESCRIPTION:Enjoy all the mobility and peace of mind that a regular yoga c
 lass provides, while feeling fully supported in a chair in your own home.\
 r\nInstructor Eden Bennett brings over 16 years of arthritis exercise and
  23 years of yoga experience/training to this class. \r\nPlease have the 
 following props available for use during the class: inflated ball 6&quot; 
 - 9&quot;, resistance band, low weights 1-3 lbs\r\nIf you are a Harborfiel
 ds Library cardholder and would like to attend in person at the library, p
 lease register here: https://www.harborfieldslibrary.org/event/chair-yoga
 -arthritis-summer-23-library-5
URL:https://www.harborfieldslibrary.org/event/virtual-chair-yoga-arthritis
 -summer-23
END:VEVENT
END:VCALENDAR
