BEGIN:VCALENDAR
VERSION:2.0
PRODID:-//Library Market//iCal Export//EN
BEGIN:VEVENT
SUMMARY:Chair Yoga for Arthritis Summer 23 @ the Library
UID:35777
DTSTAMP:20260420T192700Z
DTSTART:20230629T143000Z
DTEND:20230629T153000Z
LOCATION:Harborfields Public Library, 31 Broadway, Greenlawn, NY 11740, Un
 ited States
ROOM: Community Meeting Room
DESCRIPTION:Enjoy all the mobility and peace of mind that a regular yoga c
 lass provides, while feeling fully supported in a chair.\r\nInstructor Ede
 n Bennett brings over 16 years of arthritis exercise and 23 years of yoga
  experience/training to this class. \r\nPlease have the following props a
 vailable for use during the class: inflated ball 6&quot; - 9&quot;, resist
 ance band, low weights 1-3 lbs\r\nEveryone is encouraged to work at their 
 own pace. Harborfields Library cardholders.\r\nIf you are not a resident y
 ou may join the class virtually. Please register here: https://www.harbor
 fieldslibrary.org/event/virtual-chair-yoga-arthritis-summer-23-5
URL:https://www.harborfieldslibrary.org/event/chair-yoga-arthritis-summer-
 23-library
END:VEVENT
END:VCALENDAR
