BEGIN:VCALENDAR
VERSION:2.0
PRODID:-//Library Market//iCal Export//EN
BEGIN:VEVENT
SUMMARY:Chapter One
UID:35720
DTSTAMP:20260422T010600Z
DTSTART:20230308T220000Z
DTEND:20230308T230000Z
LOCATION:Harborfields Public Library, 31 Broadway, Greenlawn, NY 11740, Un
 ited States
ROOM: Youth Services A &amp; B Combined
DESCRIPTION:In this introductory book discussion children will share in th
 e reading of &quot;Houndsley and Catina: Plink and Plunk&quot; by James Ho
 we and participate in a lively game of picture Bingo. Books will be availa
 ble the night of the program. Children who participate will select a paper
 back of their choice to keep.
URL:https://www.harborfieldslibrary.org/event/chapter-one-2
END:VEVENT
END:VCALENDAR
