BEGIN:VCALENDAR
VERSION:2.0
PRODID:-//Library Market//iCal Export//EN
BEGIN:VEVENT
SUMMARY:Mini Paper Kites
UID:34526
DTSTAMP:20260422T011300Z
DTSTART:20230309T220000Z
DTEND:20230309T224500Z
LOCATION:Harborfields Public Library, 31 Broadway, Greenlawn, NY 11740, Un
 ited States
ROOM: Youth Services A &amp; B Combined
DESCRIPTION:Spring is in the air! Let&#039;s get ready for the winds of Ma
 rch by creating our own colorful kites, and watch how they soar in the sky
 !
URL:https://www.harborfieldslibrary.org/event/mini-paper-kites
END:VEVENT
END:VCALENDAR
