BEGIN:VCALENDAR
VERSION:2.0
PRODID:-//Library Market//iCal Export//EN
BEGIN:VEVENT
SUMMARY:Yoga for Kids
UID:34450
DTSTAMP:20260422T005800Z
DTSTART:20230306T214500Z
DTEND:20230306T223000Z
LOCATION:Harborfields Public Library, 31 Broadway, Greenlawn, NY 11740, Un
 ited States
ROOM: Youth Services A &amp; B Combined
DESCRIPTION:Learn basic yoga moves and tips on how to relax both your mind
  and body for a healthier you with certified yoga instructor, Theresa Bank
 s. The Library will provide mats.
URL:https://www.harborfieldslibrary.org/event/yoga-kids-17
END:VEVENT
END:VCALENDAR
