BEGIN:VCALENDAR
VERSION:2.0
PRODID:-//Library Market//iCal Export//EN
BEGIN:VEVENT
SUMMARY:Nathan Hale Senior Group 2024
UID:32532
DTSTAMP:20260422T163200Z
DTSTART:20240924T140000Z
DTEND:20240924T170000Z
LOCATION:Harborfields Public Library, 31 Broadway, Greenlawn, NY 11740, Un
 ited States
ROOM: Community Meeting Room
DESCRIPTION:The Town of Huntington Nathan Hale Senior Club&#039;s weekly m
 eeting.\r\n 
URL:https://www.harborfieldslibrary.org/event/nathan-hale-senior-group-202
 4-32532
END:VEVENT
END:VCALENDAR
