BEGIN:VCALENDAR
VERSION:2.0
PRODID:-//Library Market//iCal Export//EN
BEGIN:VEVENT
SUMMARY:Kids in the Kitchen: Bread in a Bag
UID:32309
DTSTAMP:20260422T005800Z
DTSTART:20230309T233000Z
DTEND:20230310T003000Z
LOCATION:Harborfields Public Library, 31 Broadway, Greenlawn, NY 11740, Un
 ited States
ROOM: Kitchen Meeting Room
DESCRIPTION:Create a delicious loaf of bread in a bag. Children will make 
 their bread dough in the program and bring it home to bake.
URL:https://www.harborfieldslibrary.org/event/kids-kitchen-bread-bag
END:VEVENT
END:VCALENDAR
