BEGIN:VCALENDAR
VERSION:2.0
PRODID:-//Library Market//iCal Export//EN
BEGIN:VEVENT
SUMMARY:February 2023 Suffolk Safety Accident Prevention
UID:31896
DTSTAMP:20260422T054900Z
DTSTART:20230204T151500Z
DTEND:20230204T211500Z
LOCATION:Harborfields Public Library, 31 Broadway, Greenlawn, NY 11740, Un
 ited States
ROOM: Small Meeting Room
DESCRIPTION:With successful completion of the six-hour National Point &amp
 ; Insurance Reduction Course you may receive 10% off Auto Insurance each y
 ear for up to three years.\r\nIt may reduce up to four points off your dri
 ving record. \r\nBring your $35 check payable to SUFFOLK SAFETY to the cl
 ass. 
URL:https://www.harborfieldslibrary.org/event/february-2023-suffolk-safety
 -accident-prevention
END:VEVENT
END:VCALENDAR
