BEGIN:VCALENDAR
VERSION:2.0
PRODID:-//Library Market//iCal Export//EN
BEGIN:VEVENT
SUMMARY:&quot;In the Beginning&quot;...Memoir Writing Workshop
UID:31184
DTSTAMP:20260422T011300Z
DTSTART:20230308T170000Z
DTEND:20230308T181500Z
LOCATION:Harborfields Public Library, 31 Broadway, Greenlawn, NY 11740, Un
 ited States
ROOM: Small Meeting Room
DESCRIPTION:Whether you&#039;re a writer looking to reconvene or a beginne
 r looking to tap into the healing journey of self-discovery, participants 
 will immerse themselves in the art of reflective writing in a shared group
  setting. Join us for this ten-session, bi-monthly workshop. Attending the
  first session is mandatory to participate in the series. Please register.
URL:https://www.harborfieldslibrary.org/event/beginningmemoir-writing-work
 shop-3
END:VEVENT
END:VCALENDAR
