BEGIN:VCALENDAR
VERSION:2.0
PRODID:-//Library Market//iCal Export//EN
BEGIN:VEVENT
SUMMARY:SAT Makeup class - snow day
UID:30503
DTSTAMP:20260422T005800Z
DTSTART:20230306T233000Z
DTEND:20230307T013000Z
LOCATION:Harborfields Public Library, 31 Broadway, Greenlawn, NY 11740, Un
 ited States
ROOM: Small Meeting Room
DESCRIPTION:SAT makeup class in case of a snow day during the series
URL:https://www.harborfieldslibrary.org/event/sat-makeup-class-snow-day
END:VEVENT
END:VCALENDAR
