BEGIN:VCALENDAR
VERSION:2.0
PRODID:-//Library Market//iCal Export//EN
BEGIN:VEVENT
SUMMARY:Toddlers Tango
UID:28932
DTSTAMP:20260422T010600Z
DTSTART:20230307T190000Z
DTEND:20230307T194500Z
LOCATION:Harborfields Public Library, 31 Broadway, Greenlawn, NY 11740, Un
 ited States
ROOM: Youth Services A &amp; B Combined
DESCRIPTION:Clap your hands, stomp your feet and wiggle to the beat! Grab 
 your little dancing partner and get ready to move and groove during this h
 igh energy music and movement program. Families will move and groove to mu
 sic from around the world using instruments, props and developmentally app
 ropriate movements!
URL:https://www.harborfieldslibrary.org/event/toddlers-tango-11
END:VEVENT
END:VCALENDAR
