BEGIN:VCALENDAR
VERSION:2.0
PRODID:-//Library Market//iCal Export//EN
BEGIN:VEVENT
SUMMARY:Syracuse University Center for Sustainable Community Solutions Sta
 ff Video
UID:26287
DTSTAMP:20260422T081100Z
DTSTART:20220825T163000Z
DTEND:20220825T193000Z
LOCATION:Harborfields Public Library, 31 Broadway, Greenlawn, NY 11740, Un
 ited States
ROOM: Kitchen Meeting Room
DESCRIPTION:To conduct an interview for a video about a new center called 
 &quot;The NYS Center for Sustainable Materials Management&quot;
URL:https://www.harborfieldslibrary.org/event/syracuse-university-center-s
 ustainable-community-solutions-staff-video
END:VEVENT
END:VCALENDAR
