BEGIN:VCALENDAR
VERSION:2.0
PRODID:-//Library Market//iCal Export//EN
BEGIN:VEVENT
SUMMARY:Summer Is Booked: a Book Club for Middle School Students
UID:24232
DTSTAMP:20260422T081100Z
DTSTART:20220825T200000Z
DTEND:20220825T204500Z
LOCATION:Harborfields Public Library, 31 Broadway, Greenlawn, NY 11740, Un
 ited States
ROOM: Youth Services Room A
DESCRIPTION:Calling all middle school students who LOVE to read: join the 
 book club where we read book selections chosen by you! Each month we will 
 discuss a book chosen by the group while enjoying some delicious snacks. P
 lease register. 
URL:https://www.harborfieldslibrary.org/event/summer-booked-book-club-midd
 le-school-students-0
END:VEVENT
END:VCALENDAR
