BEGIN:VCALENDAR
VERSION:2.0
PRODID:-//Library Market//iCal Export//EN
BEGIN:VEVENT
SUMMARY:Game Room Open
UID:13814
DTSTAMP:20260421T172700Z
DTSTART:20220729T170000Z
DTEND:20220729T200000Z
LOCATION:Harborfields Public Library, 31 Broadway, Greenlawn, NY 11740, Un
 ited States
ROOM: Small Meeting Room
DESCRIPTION:The Small Meeting Room is open to quiet games and card playing
 .  You must bring your own supplies. 
URL:https://www.harborfieldslibrary.org/event/game-room-open-132
END:VEVENT
END:VCALENDAR
