BEGIN:VCALENDAR
VERSION:2.0
PRODID:-//Library Market//iCal Export//EN
BEGIN:VEVENT
SUMMARY:Fall Story Time (In Person)
UID:10035
DTSTAMP:20260424T174300Z
DTSTART:20211013T190000Z
DTEND:20211013T193000Z
LOCATION:Harborfields Public Library, 31 Broadway, Greenlawn, NY 11740, Un
 ited States
ROOM: Youth Services A &amp; B Combined
DESCRIPTION:Join a Children&#039;s Librarian for a half-hour program of st
 ories, finger plays and more.
URL:https://www.harborfieldslibrary.org/event/fall-story-time-person-4
END:VEVENT
END:VCALENDAR
